BEGIN:VCALENDAR
VERSION:2.0
PRODID:-//Blog Guia Manresa - ECPv6.15.15//NONSGML v1.0//EN
CALSCALE:GREGORIAN
METHOD:PUBLISH
X-ORIGINAL-URL:https://www.guiamanresa.cat/blogwp
X-WR-CALDESC:Esdeveniments per Blog Guia Manresa
REFRESH-INTERVAL;VALUE=DURATION:PT1H
X-Robots-Tag:noindex
X-PUBLISHED-TTL:PT1H
BEGIN:VTIMEZONE
TZID:Europe/Andorra
BEGIN:DAYLIGHT
TZOFFSETFROM:+0100
TZOFFSETTO:+0200
TZNAME:CEST
DTSTART:20140330T010000
END:DAYLIGHT
BEGIN:STANDARD
TZOFFSETFROM:+0200
TZOFFSETTO:+0100
TZNAME:CET
DTSTART:20141026T010000
END:STANDARD
BEGIN:DAYLIGHT
TZOFFSETFROM:+0100
TZOFFSETTO:+0200
TZNAME:CEST
DTSTART:20150329T010000
END:DAYLIGHT
BEGIN:STANDARD
TZOFFSETFROM:+0200
TZOFFSETTO:+0100
TZNAME:CET
DTSTART:20151025T010000
END:STANDARD
BEGIN:DAYLIGHT
TZOFFSETFROM:+0100
TZOFFSETTO:+0200
TZNAME:CEST
DTSTART:20160327T010000
END:DAYLIGHT
BEGIN:STANDARD
TZOFFSETFROM:+0200
TZOFFSETTO:+0100
TZNAME:CET
DTSTART:20161030T010000
END:STANDARD
BEGIN:DAYLIGHT
TZOFFSETFROM:+0100
TZOFFSETTO:+0200
TZNAME:CEST
DTSTART:20170326T010000
END:DAYLIGHT
BEGIN:STANDARD
TZOFFSETFROM:+0200
TZOFFSETTO:+0100
TZNAME:CET
DTSTART:20171029T010000
END:STANDARD
BEGIN:DAYLIGHT
TZOFFSETFROM:+0100
TZOFFSETTO:+0200
TZNAME:CEST
DTSTART:20180325T010000
END:DAYLIGHT
BEGIN:STANDARD
TZOFFSETFROM:+0200
TZOFFSETTO:+0100
TZNAME:CET
DTSTART:20181028T010000
END:STANDARD
END:VTIMEZONE
BEGIN:VEVENT
DTSTART;VALUE=DATE:20170224
DTEND;VALUE=DATE:20170226
DTSTAMP:20260424T102748
CREATED:20170215T175828Z
LAST-MODIFIED:20170215T181454Z
UID:3840-1487894400-1488067199@www.guiamanresa.cat
SUMMARY:Fira de l'aixada 2017 a Manresa
DESCRIPTION:Més informació\nRestaurants a Manresa\nPàrquings\nGuia de Manresa \n 
URL:https://www.guiamanresa.cat/blogwp/event/fira-laixada-2017-manresa/
END:VEVENT
BEGIN:VEVENT
DTSTART;TZID=Europe/Andorra:20160709T000000
DTEND;TZID=Europe/Andorra:20160731T000000
DTSTAMP:20260424T102748
CREATED:20160720T170550Z
LAST-MODIFIED:20160720T170744Z
UID:3570-1468022400-1469923200@www.guiamanresa.cat
SUMMARY:Festes de Sant Ignasi 2016
DESCRIPTION:Programa festes Sant Ignasi 2016
URL:https://www.guiamanresa.cat/blogwp/event/festes-sant-ignasi-2016/
END:VEVENT
BEGIN:VEVENT
DTSTART;TZID=Europe/Andorra:20151230T233000
DTEND;TZID=Europe/Andorra:20151230T235500
DTSTAMP:20260424T102748
CREATED:20151230T160706Z
LAST-MODIFIED:20151230T160706Z
UID:3253-1451518200-1451519700@www.guiamanresa.cat
SUMMARY:Cap d'any a Barna amb BumBand Explossion de Santi Arisa i Dan Arisa
DESCRIPTION:Cap d’any a Barna amb BumBand Explossion de Santi Arisa i Dan Arisa\nPublicat el 30 desembre 2015\n\n\nL’espectacle BumBand Explossion de Santi Arisa i Dan Arisa\, amb la col·laboració dels artistes del llegendari grup musical Pegasus i la formació dels Perkutes de Canet\, participaran el proper dia 31 en la celebració de l’entrada del nou any a … Continua llegint →
URL:https://www.guiamanresa.cat/blogwp/event/cap-dany-a-barna-amb-bumband-explossion-de-santi-arisa-i-dan-arisa/
LOCATION:Recinte sense nom\, Avinguda Maria Cristina\, Barcelona\, Barcelona\, Espanya
END:VEVENT
BEGIN:VEVENT
DTSTART;TZID=Europe/Andorra:20151003T203000
DTEND;TZID=Europe/Andorra:20151003T214500
DTSTAMP:20260424T102748
CREATED:20151003T092541Z
LAST-MODIFIED:20151003T092840Z
UID:3149-1443904200-1443908700@www.guiamanresa.cat
SUMMARY:Mini concerts al balcó – shopping night Manresa 2015
DESCRIPTION:Mini concerts al balcó – shopping night Manresa 2015
URL:https://www.guiamanresa.cat/blogwp/event/mini-concerts-al-balco-shopping-night-manresa-2015/
LOCATION:Casa  Buresa\, Manresa\, Barcelona -  Catalunya\, 08241\, Espanya
END:VEVENT
BEGIN:VEVENT
DTSTART;TZID=Europe/Andorra:20150711T190000
DTEND;TZID=Europe/Andorra:20150711T220000
DTSTAMP:20260424T102748
CREATED:20150706T115958Z
LAST-MODIFIED:20150706T120219Z
UID:3049-1436641200-1436652000@www.guiamanresa.cat
SUMMARY:Via lliure a la Solidaritat
DESCRIPTION:
URL:https://www.guiamanresa.cat/blogwp/event/via-lliure-a-la-solidaritat/
LOCATION:Unnamed Venue\,  Plaça Sant  Domènec \, Manresa\, Catalunya\, 08241\, Spain
CATEGORIES:ANC
END:VEVENT
END:VCALENDAR